BEGIN:VCALENDAR
VERSION:2.0
PRODID:-//Bondi Innovation Alliance - ECPv5.4.0//NONSGML v1.0//EN
CALSCALE:GREGORIAN
METHOD:PUBLISH
X-WR-CALNAME:Bondi Innovation Alliance
X-ORIGINAL-URL:https://bondiinnovation.com.au
X-WR-CALDESC:Events for Bondi Innovation Alliance
BEGIN:VTIMEZONE
TZID:Australia/Sydney
BEGIN:STANDARD
TZOFFSETFROM:+1100
TZOFFSETTO:+1000
TZNAME:AEST
DTSTART:20210403T160000
END:STANDARD
BEGIN:DAYLIGHT
TZOFFSETFROM:+1000
TZOFFSETTO:+1100
TZNAME:AEDT
DTSTART:20211002T160000
END:DAYLIGHT
END:VTIMEZONE
BEGIN:VEVENT
DTSTART;TZID=Australia/Sydney:20210309T120000
DTEND;TZID=Australia/Sydney:20210309T130000
DTSTAMP:20210227T193351
CREATED:20210225T074440Z
LAST-MODIFIED:20210225T074440Z
UID:2742-1615291200-1615294800@bondiinnovation.com.au
SUMMARY:Tech startups group meetup 9th March 2021
DESCRIPTION:For members of Bondi Innovation Alliance Tech startups Group (free registration) to connect\, collaborate\, learn together and potentially catalyse ventures.  \nREGISTRATIONS ESSENTIAL \nAt the meetup we will share: \n– skills and current projects \n– pain points and potential useful connections \n– identify potential collaborations \n– explore how the tech startups group can be most useful to members \nWe are charging a nominal fee to attend the meetup to help Bondi Innovation Alliance continue its work. Brewed coffee and tea included!
URL:https://bondiinnovation.com.au/event/tech-startups-group-meetup-9th-march-2021/
LOCATION:Bondi Innovation Hub\, 33 Hall Street\, Bondi Beach\, NSW\, 2026\, Australia
ATTACH;FMTTYPE=image/png:https://bondiinnovation.com.au/wp-content/uploads/2021/02/Captura-de-pantalla-2021-02-25-a-las-16.27.37.png
END:VEVENT
BEGIN:VEVENT
DTSTART;TZID=Australia/Sydney:20210303T120000
DTEND;TZID=Australia/Sydney:20210303T130000
DTSTAMP:20210227T193351
CREATED:20210225T073555Z
LAST-MODIFIED:20210225T074102Z
UID:2738-1614772800-1614776400@bondiinnovation.com.au
SUMMARY:Wellbeing Entrepreneurs meetup 3rd March 2021
DESCRIPTION:Hello Wellbeing Entrepreneurs! \nWe are excited to continue growing Bondi Innovation Alliance’s group meetups. \nWe will run a Wellbeing Entrepreneurs group meetup this coming Friday from 12 PM to 1 PM at our new Bondi Innovation Hub!! \nFor members of Bondi Innovation Alliance Wellbeing entrepreneurs Group (free registration) to connect\, collaborate\, learn together and potentially catalyze ventures.  \nREGISTRATIONS ESSENTIAL \nWe believe wellbeing is an enormous opportunity space for Bondi entrepreneurs and would love to support the people in this space. \nPlease feel free to invite your friends who might like to come to the meetup\, they just need to register on the platform first. We can’t wait to meet and connect with you! \nWe are charging a nominal fee to attend the meetup to help Bondi Innovation Alliance continue its work. Brewed coffee and tea included!
URL:https://bondiinnovation.com.au/event/wellbeing-entrepreneurs-meetup-3rd-march-2021/
LOCATION:Bondi Innovation Hub\, 33 Hall Street\, Bondi Beach\, NSW\, 2026\, Australia
ATTACH;FMTTYPE=image/png:https://bondiinnovation.com.au/wp-content/uploads/2021/02/Captura-de-pantalla-2021-02-25-a-las-16.06.14.png
END:VEVENT
END:VCALENDAR